BEGIN:VCALENDAR
VERSION:2.0
PRODID:-//ITPS Research Portal - ECPv6.1.3//NONSGML v1.0//EN
CALSCALE:GREGORIAN
METHOD:PUBLISH
X-WR-CALNAME:ITPS Research Portal
X-ORIGINAL-URL:http://theitps.org
X-WR-CALDESC:Events for ITPS Research Portal
REFRESH-INTERVAL;VALUE=DURATION:PT1H
X-Robots-Tag:noindex
X-PUBLISHED-TTL:PT1H
BEGIN:VTIMEZONE
TZID:America/New_York
BEGIN:DAYLIGHT
TZOFFSETFROM:-0500
TZOFFSETTO:-0400
TZNAME:EDT
DTSTART:20210314T070000
END:DAYLIGHT
BEGIN:STANDARD
TZOFFSETFROM:-0400
TZOFFSETTO:-0500
TZNAME:EST
DTSTART:20211107T060000
END:STANDARD
END:VTIMEZONE
BEGIN:VEVENT
DTSTART;TZID=America/New_York:20210916T180000
DTEND;TZID=America/New_York:20210916T200000
DTSTAMP:20260420T040700
CREATED:20210825T184104Z
LAST-MODIFIED:20210831T120309Z
UID:1037-1631815200-1631822400@theitps.org
SUMMARY:ITPS Constitution Day Event: "Legacies of the Constitution"
DESCRIPTION:Co-hosted by the ITPS and Thomas Paine Cottage-Huguenot & New Rochelle Historical Association\, “Legacies of the Constitution” is a virtual roundtable discussion to commemorate Constitution Day on September 16\, 2021\, 6:00PM-8:00PM. The roundtable features ITPS Scholar-in-Residence Dr. Lindsay Chervinsky\, Dr. Sally E. Hadden (Western Michigan University)\, Dr. Martha Jones (The Johns Hopkins University)\, Dr. Kate Masur (Northwestern University)\, and Dr. Jeanne Sheehan Zaino (Iona College)\, moderated by ITPS Director and Gardiner Assistant Professor of History Dr. Nora Slonimsky. Free registration is available here.
URL:http://theitps.org/event/itps-constition-day-event-legacies-of-the-constitution/
END:VEVENT
END:VCALENDAR